BEGIN:VCALENDAR
VERSION:2.0
PRODID:-//Farmacia Pittari - ECPv6.15.20//NONSGML v1.0//EN
CALSCALE:GREGORIAN
METHOD:PUBLISH
X-ORIGINAL-URL:https://farmaciapittari.it
X-WR-CALDESC:Eventi per Farmacia Pittari
REFRESH-INTERVAL;VALUE=DURATION:PT1H
X-Robots-Tag:noindex
X-PUBLISHED-TTL:PT1H
BEGIN:VTIMEZONE
TZID:Europe/Rome
BEGIN:DAYLIGHT
TZOFFSETFROM:+0100
TZOFFSETTO:+0200
TZNAME:CEST
DTSTART:20230326T010000
END:DAYLIGHT
BEGIN:STANDARD
TZOFFSETFROM:+0200
TZOFFSETTO:+0100
TZNAME:CET
DTSTART:20231029T010000
END:STANDARD
BEGIN:DAYLIGHT
TZOFFSETFROM:+0100
TZOFFSETTO:+0200
TZNAME:CEST
DTSTART:20240331T010000
END:DAYLIGHT
BEGIN:STANDARD
TZOFFSETFROM:+0200
TZOFFSETTO:+0100
TZNAME:CET
DTSTART:20241027T010000
END:STANDARD
BEGIN:DAYLIGHT
TZOFFSETFROM:+0100
TZOFFSETTO:+0200
TZNAME:CEST
DTSTART:20250330T010000
END:DAYLIGHT
BEGIN:STANDARD
TZOFFSETFROM:+0200
TZOFFSETTO:+0100
TZNAME:CET
DTSTART:20251026T010000
END:STANDARD
END:VTIMEZONE
BEGIN:VEVENT
DTSTART;TZID=Europe/Rome:20240530T083000
DTEND;TZID=Europe/Rome:20240530T200000
DTSTAMP:20260422T033926
CREATED:20240525T075358Z
LAST-MODIFIED:20240525T075358Z
UID:10000039-1717057800-1717099200@farmaciapittari.it
SUMMARY:Giornata di Igiene Orale Emoform
DESCRIPTION:Giornata dedicata all’igiene orale con la consulenza di uno specialista Emoform.
URL:https://farmaciapittari.it/eventi/giornata-di-igiene-orale-emoform/
CATEGORIES:Maggio 2024
ATTACH;FMTTYPE=image/png:https://farmaciapittari.it/wp-content/uploads/2024/05/GIORNATA-IGIENE-ORALE-EMOFORM.png
END:VEVENT
END:VCALENDAR