BEGIN:VCALENDAR
VERSION:2.0
PRODID:-//Farmacia Pittari - ECPv6.15.20//NONSGML v1.0//EN
CALSCALE:GREGORIAN
METHOD:PUBLISH
X-WR-CALNAME:Farmacia Pittari
X-ORIGINAL-URL:https://farmaciapittari.it
X-WR-CALDESC:Eventi per Farmacia Pittari
REFRESH-INTERVAL;VALUE=DURATION:PT1H
X-Robots-Tag:noindex
X-PUBLISHED-TTL:PT1H
BEGIN:VTIMEZONE
TZID:Europe/Rome
BEGIN:DAYLIGHT
TZOFFSETFROM:+0100
TZOFFSETTO:+0200
TZNAME:CEST
DTSTART:20240331T010000
END:DAYLIGHT
BEGIN:STANDARD
TZOFFSETFROM:+0200
TZOFFSETTO:+0100
TZNAME:CET
DTSTART:20241027T010000
END:STANDARD
BEGIN:DAYLIGHT
TZOFFSETFROM:+0100
TZOFFSETTO:+0200
TZNAME:CEST
DTSTART:20250330T010000
END:DAYLIGHT
BEGIN:STANDARD
TZOFFSETFROM:+0200
TZOFFSETTO:+0100
TZNAME:CET
DTSTART:20251026T010000
END:STANDARD
BEGIN:DAYLIGHT
TZOFFSETFROM:+0100
TZOFFSETTO:+0200
TZNAME:CEST
DTSTART:20260329T010000
END:DAYLIGHT
BEGIN:STANDARD
TZOFFSETFROM:+0200
TZOFFSETTO:+0100
TZNAME:CET
DTSTART:20261025T010000
END:STANDARD
BEGIN:DAYLIGHT
TZOFFSETFROM:+0100
TZOFFSETTO:+0200
TZNAME:CEST
DTSTART:20270328T010000
END:DAYLIGHT
BEGIN:STANDARD
TZOFFSETFROM:+0200
TZOFFSETTO:+0100
TZNAME:CET
DTSTART:20271031T010000
END:STANDARD
END:VTIMEZONE
BEGIN:VEVENT
DTSTART;TZID=Europe/Rome:20260413T083000
DTEND;TZID=Europe/Rome:20260413T210000
DTSTAMP:20260421T130337
CREATED:20260407T110105Z
LAST-MODIFIED:20260407T110105Z
UID:10000129-1776069000-1776114000@farmaciapittari.it
SUMMARY:Giornata Bionike My Body
DESCRIPTION:Intera giornata dedicata  al trattamento anticellulite in cabina  con tecnologia termografica\, massaggio linfodrenante e + sconti sulla linea defence my body.
URL:https://farmaciapittari.it/eventi/giornata-bionike-my-body/
LOCATION:Farmacia Pittari Catania\, Via Vitaliano Brancati\, 55\, Catania\, Catania\, 95128\, Italia
CATEGORIES:Aprile 2026
ATTACH;FMTTYPE=image/png:https://farmaciapittari.it/wp-content/uploads/2025/09/GIORNATA-BIONIKE-MY-BODY-TRATTAMENTO-ANTICELLULITE.png
ORGANIZER;CN="Farmacia Pittari Catania":MAILTO:info@farmaciapittari.it
END:VEVENT
BEGIN:VEVENT
DTSTART;TZID=Europe/Rome:20260320T083000
DTEND;TZID=Europe/Rome:20260320T200000
DTSTAMP:20260421T130337
CREATED:20260303T111129Z
LAST-MODIFIED:20260303T111211Z
UID:10000160-1773995400-1774036800@farmaciapittari.it
SUMMARY:Giornata Bionike Make UP
DESCRIPTION:Intera giornata dedicata  al make up e alla bellezza! Prenota la tua seduta trucco personalizzata con un Make Up Artist di Bionike.
URL:https://farmaciapittari.it/eventi/giornata-bionike-make-up-3/
LOCATION:Farmacia Pittari Catania\, Via Vitaliano Brancati\, 55\, Catania\, Catania\, 95128\, Italia
CATEGORIES:Marzo 2026
ATTACH;FMTTYPE=image/png:https://farmaciapittari.it/wp-content/uploads/2026/03/giornata-bionike-make-up-1.png
ORGANIZER;CN="Farmacia Pittari Catania":MAILTO:info@farmaciapittari.it
END:VEVENT
BEGIN:VEVENT
DTSTART;TZID=Europe/Rome:20260310T080000
DTEND;TZID=Europe/Rome:20260310T203000
DTSTAMP:20260421T130337
CREATED:20260303T110803Z
LAST-MODIFIED:20260303T110803Z
UID:10000159-1773129600-1773174600@farmaciapittari.it
SUMMARY:Giornata del controllo Tiroide (TSH)
DESCRIPTION:Giornata dedicata al controllo funzionamento della tiroide.
URL:https://farmaciapittari.it/eventi/giornata-del-controllo-tiroide-tsh/
CATEGORIES:Marzo 2026
ATTACH;FMTTYPE=image/png:https://farmaciapittari.it/wp-content/uploads/2026/03/1080_1080-giornata-tsh-marzo.png
ORGANIZER;CN="Farmacia Pittari Catania":MAILTO:info@farmaciapittari.it
END:VEVENT
BEGIN:VEVENT
DTSTART;TZID=Europe/Rome:20260225T083000
DTEND;TZID=Europe/Rome:20260225T203000
DTSTAMP:20260421T130337
CREATED:20260203T132727Z
LAST-MODIFIED:20260206T132629Z
UID:10000152-1772008200-1772051400@farmaciapittari.it
SUMMARY:Giornata sulla sindrome metabolica
DESCRIPTION:Giornata sulla sindrome metabolica: fai lo screening in Farmacia \n le giornate in farmacia dedicate alla sindrome metabolica assumono un’importanza particolare\, enfatizzando l’importanza della prevenzione.\nAttraverso la misurazione dei fattori di rischio è possibile identificare precocemente eventuali anomalie da trattare.  \nIl nostro screening prevede: \n\nControllo del colesterolo HDL/LDL: per quantificare il colesterolo buono e quello cattivo\nMisurazione dei livelli di trigliceridi: costituisce uno dei criteri diagnostici fondamentali\nTest dell’emoglobina glicata: permette di capire se c’è una tendenza al diabete o un diabete già presente\nMisurazione della glicemia: valuta la quantità di glucosio nel sangue in un preciso momento\, di solito a digiuno\nMisurazione della pressione arteriosa: una pressione alta (ipertensione) può danneggiare le arterie e il cuore\n Misurazione della circonferenza vita: la presenza di grasso addominale è un fattore di rischio cardiovascolare
URL:https://farmaciapittari.it/eventi/giornata-sindrome-metabolica/
LOCATION:Farmacia Pittari Catania\, Via Vitaliano Brancati\, 55\, Catania\, Catania\, 95128\, Italia
CATEGORIES:Febbraio 2026
ATTACH;FMTTYPE=image/jpeg:https://farmaciapittari.it/wp-content/uploads/2026/02/giornata-sindrome-metabolica-25-febbraio-farmacia-pittari.jpg
ORGANIZER;CN="Farmacia Pittari Catania":MAILTO:info@farmaciapittari.it
END:VEVENT
BEGIN:VEVENT
DTSTART;TZID=Europe/Rome:20260224T083000
DTEND;TZID=Europe/Rome:20260224T130000
DTSTAMP:20260421T130337
CREATED:20260206T095819Z
LAST-MODIFIED:20260206T095819Z
UID:10000154-1771921800-1771938000@farmaciapittari.it
SUMMARY:Giornata Giavì
DESCRIPTION:Giornata dedicata al controllo di pelle e capelli.
URL:https://farmaciapittari.it/eventi/giornata-giavi-19/
LOCATION:Farmacia Pittari Catania\, Via Vitaliano Brancati\, 55\, Catania\, Catania\, 95128\, Italia
CATEGORIES:Febbraio 2026
ATTACH;FMTTYPE=image/png:https://farmaciapittari.it/wp-content/uploads/2026/02/NUOVO-BANNER-GIAVI-9.png
ORGANIZER;CN="Farmacia Pittari Catania":MAILTO:info@farmaciapittari.it
END:VEVENT
BEGIN:VEVENT
DTSTART;TZID=Europe/Rome:20260217T090000
DTEND;TZID=Europe/Rome:20260217T193000
DTSTAMP:20260421T130337
CREATED:20260206T101805Z
LAST-MODIFIED:20260206T101805Z
UID:10000156-1771318800-1771356600@farmaciapittari.it
SUMMARY:Giornata Euphidra
DESCRIPTION:Giornata dedicata al Trattamento viso in cabina cona la nostra conulente! \n\ndetersione completa di peeling\nmassaggio viso\napplicazione di siero\, crema e contorno occhi
URL:https://farmaciapittari.it/eventi/giornata-euphidra-23/
LOCATION:Farmacia Pittari Catania\, Via Vitaliano Brancati\, 55\, Catania\, Catania\, 95128\, Italia
CATEGORIES:Febbraio 2026
ATTACH;FMTTYPE=image/png:https://farmaciapittari.it/wp-content/uploads/2026/02/TRATTAMENTO-IN-CABINA-EUPHIDRA-2-1.png
ORGANIZER;CN="Farmacia Pittari Catania":MAILTO:info@farmaciapittari.it
END:VEVENT
BEGIN:VEVENT
DTSTART;TZID=Europe/Rome:20260122T083000
DTEND;TZID=Europe/Rome:20260122T130000
DTSTAMP:20260421T130337
CREATED:20260116T162404Z
LAST-MODIFIED:20260116T162404Z
UID:10000150-1769070600-1769086800@farmaciapittari.it
SUMMARY:Giornata Giavì
DESCRIPTION:Giornata dedicata al controllo di pelle e capelli.
URL:https://farmaciapittari.it/eventi/giornata-giavi-18/
LOCATION:Farmacia Pittari Catania\, Via Vitaliano Brancati\, 55\, Catania\, Catania\, 95128\, Italia
CATEGORIES:Gennaio 2026
ATTACH;FMTTYPE=image/png:https://farmaciapittari.it/wp-content/uploads/2026/01/NUOVO-BANNER-GIAVI-8.png
ORGANIZER;CN="Farmacia Pittari Catania":MAILTO:info@farmaciapittari.it
END:VEVENT
BEGIN:VEVENT
DTSTART;TZID=Europe/Rome:20260121T083000
DTEND;TZID=Europe/Rome:20260121T203000
DTSTAMP:20260421T130337
CREATED:20260112T141043Z
LAST-MODIFIED:20260113T111218Z
UID:10000148-1768984200-1769027400@farmaciapittari.it
SUMMARY:Giornata sulla prevenzione cardiovascolare
DESCRIPTION:Giornata sulla prevenzione cardiovascolare: fai lo screening in Farmacia \nLo screening cardiovascolare è un insieme di test e valutazioni finalizzate all’identificazione precoce di fattori di rischio e patologie cardiovascolari. \nQuesto tipo di approccio mira a prevenire eventi avversi come infarto e ictus\, promuovendo uno stile di vita sano e l’adozione di terapie efficaci. \nNelle farmacie\, questo screening viene effettuato mediante l’utilizzo di strumenti diagnostici semplici e rapidi. \nAbbiamo organizzato una giornata speciale per la prevenzione cardiovascolare.\nUn check-up rapido\, non invasivo\, pensato per individuare eventuali anomalie in modo precoce. \n1. Controllo del colesterolo HDL/LDL: per quantificare il colesterolo buono e quello cattivo\n2. Misurazione della pressione arteriosa: una pressione alta (ipertensione) può danneggiare le arterie e il cuore\n3. Elettrocardiogramma (ECG): può rivelare aritmie\, ischemie o altre anomalie cardiache che richiedono attenzione\n4. Analisi della composizione corporea: per valutare la percentuale di massa grassa\, massa muscolare e acqua totale nel corpo\n5. Calcolo del rischio cardiovascolare: per comprendere il proprio rischio personale e adottare comportamenti preventivi \nCosto 60€ 
URL:https://farmaciapittari.it/eventi/giornata-prevenzione-cardiovascolare/
LOCATION:Farmacia Pittari Catania\, Via Vitaliano Brancati\, 55\, Catania\, Catania\, 95128\, Italia
CATEGORIES:Gennaio 2026
ATTACH;FMTTYPE=image/jpeg:https://farmaciapittari.it/wp-content/uploads/2026/01/locandina-giornata-prevenzione-cardiovascolare-farmacia-pittari-1.jpg
ORGANIZER;CN="Farmacia Pittari Catania":MAILTO:info@farmaciapittari.it
END:VEVENT
BEGIN:VEVENT
DTSTART;TZID=Europe/Rome:20251218T083000
DTEND;TZID=Europe/Rome:20251218T200000
DTSTAMP:20260421T130337
CREATED:20251125T114313Z
LAST-MODIFIED:20251125T114313Z
UID:10000146-1766046600-1766088000@farmaciapittari.it
SUMMARY:Giornata Bionike cosmeceutical
DESCRIPTION:Intera giornata dedicata  al trattamento viso in cabina + sconti su tutti i prodotti del brand.
URL:https://farmaciapittari.it/eventi/giornata-bionike-cosmeceutical-9/
LOCATION:Farmacia Pittari Catania\, Via Vitaliano Brancati\, 55\, Catania\, Catania\, 95128\, Italia
CATEGORIES:Dicembre 2025
ATTACH;FMTTYPE=image/png:https://farmaciapittari.it/wp-content/uploads/2025/11/GIORNATA-BIONIKE-COSMECEUTICAL-6.png
ORGANIZER;CN="Farmacia Pittari Catania":MAILTO:info@farmaciapittari.it
END:VEVENT
BEGIN:VEVENT
DTSTART;TZID=Europe/Rome:20251215T083000
DTEND;TZID=Europe/Rome:20251215T130000
DTSTAMP:20260421T130337
CREATED:20251125T113903Z
LAST-MODIFIED:20251125T113903Z
UID:10000145-1765787400-1765803600@farmaciapittari.it
SUMMARY:Giornata Giavì
DESCRIPTION:Giornata dedicata al controllo di pelle e capelli.
URL:https://farmaciapittari.it/eventi/giornata-giavi-17/
LOCATION:Farmacia Pittari Catania\, Via Vitaliano Brancati\, 55\, Catania\, Catania\, 95128\, Italia
CATEGORIES:Dicembre 2025
ATTACH;FMTTYPE=image/png:https://farmaciapittari.it/wp-content/uploads/2025/11/NUOVO-BANNER-GIAVI-7.png
ORGANIZER;CN="Farmacia Pittari Catania":MAILTO:info@farmaciapittari.it
END:VEVENT
BEGIN:VEVENT
DTSTART;TZID=Europe/Rome:20251203T090000
DTEND;TZID=Europe/Rome:20251203T193000
DTSTAMP:20260421T130337
CREATED:20251125T102355Z
LAST-MODIFIED:20251125T102408Z
UID:10000102-1764752400-1764790200@farmaciapittari.it
SUMMARY:Giornata Euphidra
DESCRIPTION:Giornata dedicata al Trattamento viso in cabina cona la nostra conulente! \n\ndetersione completa di peeling\nmassaggio viso\napplicazione di siero\, crema e contorno occhi
URL:https://farmaciapittari.it/eventi/giornata-euphidra-22/
LOCATION:Farmacia Pittari Catania\, Via Vitaliano Brancati\, 55\, Catania\, Catania\, 95128\, Italia
CATEGORIES:Dicembre 2025
ATTACH;FMTTYPE=image/png:https://farmaciapittari.it/wp-content/uploads/2025/11/TRATTAMENTO-IN-CABINA-EUPHIDRA-3.png
ORGANIZER;CN="Farmacia Pittari Catania":MAILTO:info@farmaciapittari.it
END:VEVENT
BEGIN:VEVENT
DTSTART;TZID=Europe/Rome:20251104T083000
DTEND;TZID=Europe/Rome:20251104T130000
DTSTAMP:20260421T130337
CREATED:20251028T094047Z
LAST-MODIFIED:20251028T094047Z
UID:10000141-1762245000-1762261200@farmaciapittari.it
SUMMARY:Giornata Giavì
DESCRIPTION:Giornata dedicata al controllo di pelle e capelli.
URL:https://farmaciapittari.it/eventi/giornata-giavi-16/
LOCATION:Farmacia Pittari Catania\, Via Vitaliano Brancati\, 55\, Catania\, Catania\, 95128\, Italia
CATEGORIES:Novembre 2025,Settembre 2025
ATTACH;FMTTYPE=image/png:https://farmaciapittari.it/wp-content/uploads/2025/10/NUOVO-BANNER-GIAVI-6.png
ORGANIZER;CN="Farmacia Pittari Catania":MAILTO:info@farmaciapittari.it
END:VEVENT
BEGIN:VEVENT
DTSTART;TZID=Europe/Rome:20251016T083000
DTEND;TZID=Europe/Rome:20251016T210000
DTSTAMP:20260421T130337
CREATED:20250930T082401Z
LAST-MODIFIED:20250930T082401Z
UID:10000131-1760603400-1760648400@farmaciapittari.it
SUMMARY:Giornata Euphidra
DESCRIPTION:Giornata interamente dedicata ai prodotti Euphidra che potrai acquistare con il 20%.
URL:https://farmaciapittari.it/eventi/giornata-euphidra-21/
LOCATION:Farmacia Pittari Catania\, Via Vitaliano Brancati\, 55\, Catania\, Catania\, 95128\, Italia
CATEGORIES:Ottobre 2025
ATTACH;FMTTYPE=image/png:https://farmaciapittari.it/wp-content/uploads/2025/09/GIORNATA-PROMOZIONALE-SCONTO-EUPHIDRA-2025-6.png
ORGANIZER;CN="Farmacia Pittari Catania":MAILTO:info@farmaciapittari.it
END:VEVENT
BEGIN:VEVENT
DTSTART;TZID=Europe/Rome:20251007T083000
DTEND;TZID=Europe/Rome:20251007T210000
DTSTAMP:20260421T130337
CREATED:20250930T075818Z
LAST-MODIFIED:20250930T075818Z
UID:10000130-1759825800-1759870800@farmaciapittari.it
SUMMARY:Giornata Bionike cosmeceutical
DESCRIPTION:Intera giornata dedicata  al trattamento viso in cabina + sconti su tutti i prodotti del brand.
URL:https://farmaciapittari.it/eventi/giornata-bionike-cosmeceutical-8/
LOCATION:Farmacia Pittari Catania\, Via Vitaliano Brancati\, 55\, Catania\, Catania\, 95128\, Italia
CATEGORIES:Ottobre 2025
ATTACH;FMTTYPE=image/png:https://farmaciapittari.it/wp-content/uploads/2025/09/GIORNATA-BIONIKE-COSMECEUTICAL-5.png
ORGANIZER;CN="Farmacia Pittari Catania":MAILTO:info@farmaciapittari.it
END:VEVENT
BEGIN:VEVENT
DTSTART;TZID=Europe/Rome:20250926T083000
DTEND;TZID=Europe/Rome:20250926T130000
DTSTAMP:20260421T130337
CREATED:20250826T073945Z
LAST-MODIFIED:20250902T092523Z
UID:10000127-1758875400-1758891600@farmaciapittari.it
SUMMARY:Giornata Giavì
DESCRIPTION:Giornata dedicata al controllo di pelle e capelli.
URL:https://farmaciapittari.it/eventi/giornata-giavi-15/
LOCATION:Farmacia Pittari Catania\, Via Vitaliano Brancati\, 55\, Catania\, Catania\, 95128\, Italia
CATEGORIES:Giugno 2025,Settembre 2025
ATTACH;FMTTYPE=image/png:https://farmaciapittari.it/wp-content/uploads/2025/08/NUOVO-BANNER-GIAVI-5.png
ORGANIZER;CN="Farmacia Pittari Catania":MAILTO:info@farmaciapittari.it
END:VEVENT
BEGIN:VEVENT
DTSTART;TZID=Europe/Rome:20250915T083000
DTEND;TZID=Europe/Rome:20250915T210000
DTSTAMP:20260421T130337
CREATED:20250826T073653Z
LAST-MODIFIED:20250826T073653Z
UID:10000125-1757925000-1757970000@farmaciapittari.it
SUMMARY:Giornata Euphidra
DESCRIPTION:Giornata interamente dedicata ai prodotti Euphidra che potrai acquistare con il 20%.
URL:https://farmaciapittari.it/eventi/giornata-euphidra-20/
LOCATION:Farmacia Pittari Catania\, Via Vitaliano Brancati\, 55\, Catania\, Catania\, 95128\, Italia
CATEGORIES:Settembre 2025
ATTACH;FMTTYPE=image/png:https://farmaciapittari.it/wp-content/uploads/2025/08/GIORNATA-PROMOZIONALE-SCONTO-EUPHIDRA-2025-5.png
ORGANIZER;CN="Farmacia Pittari Catania":MAILTO:info@farmaciapittari.it
END:VEVENT
BEGIN:VEVENT
DTSTART;TZID=Europe/Rome:20250804T160000
DTEND;TZID=Europe/Rome:20250804T200000
DTSTAMP:20260421T130337
CREATED:20250729T075140Z
LAST-MODIFIED:20250729T075140Z
UID:10000124-1754323200-1754337600@farmaciapittari.it
SUMMARY:Giornata Giavì
DESCRIPTION:Giornata dedicata al controllo di pelle e capelli.
URL:https://farmaciapittari.it/eventi/giornata-giavi-14/
LOCATION:Farmacia Pittari Catania\, Via Vitaliano Brancati\, 55\, Catania\, Catania\, 95128\, Italia
CATEGORIES:Agosto 2025,Giugno 2025
ATTACH;FMTTYPE=image/png:https://farmaciapittari.it/wp-content/uploads/2025/07/NUOVO-BANNER-GIAVI-3.png
ORGANIZER;CN="Farmacia Pittari Catania":MAILTO:info@farmaciapittari.it
END:VEVENT
BEGIN:VEVENT
DTSTART;TZID=Europe/Rome:20250717T083000
DTEND;TZID=Europe/Rome:20250717T210000
DTSTAMP:20260421T130337
CREATED:20250627T165140Z
LAST-MODIFIED:20250627T165140Z
UID:10000123-1752741000-1752786000@farmaciapittari.it
SUMMARY:Giornata Euphidra
DESCRIPTION:Giornata interamente dedicata ai prodotti Euphidra che potrai acquistare con il 20%.
URL:https://farmaciapittari.it/eventi/giornata-euphidra-19/
LOCATION:Farmacia Pittari Catania\, Via Vitaliano Brancati\, 55\, Catania\, Catania\, 95128\, Italia
CATEGORIES:Luglio 2025
ATTACH;FMTTYPE=image/png:https://farmaciapittari.it/wp-content/uploads/2025/06/GIORNATA-PROMOZIONALE-SCONTO-EUPHIDRA-2025-4.png
ORGANIZER;CN="Farmacia Pittari Catania":MAILTO:info@farmaciapittari.it
END:VEVENT
BEGIN:VEVENT
DTSTART;TZID=Europe/Rome:20250624T160000
DTEND;TZID=Europe/Rome:20250624T200000
DTSTAMP:20260421T130337
CREATED:20250613T144952Z
LAST-MODIFIED:20250613T145618Z
UID:10000119-1750780800-1750795200@farmaciapittari.it
SUMMARY:Giornata Giavì
DESCRIPTION:Giornata dedicata al controllo di pelle e capelli.
URL:https://farmaciapittari.it/eventi/giornata-giavi-13/
LOCATION:Farmacia Pittari Catania\, Via Vitaliano Brancati\, 55\, Catania\, Catania\, 95128\, Italia
CATEGORIES:Giugno 2025
ATTACH;FMTTYPE=image/png:https://farmaciapittari.it/wp-content/uploads/2025/06/NUOVO-BANNER-GIAVI-2.png
ORGANIZER;CN="Farmacia Pittari Catania":MAILTO:info@farmaciapittari.it
END:VEVENT
BEGIN:VEVENT
DTSTART;TZID=Europe/Rome:20250617T083000
DTEND;TZID=Europe/Rome:20250617T210000
DTSTAMP:20260421T130337
CREATED:20250610T084745Z
LAST-MODIFIED:20250610T084745Z
UID:10000117-1750149000-1750194000@farmaciapittari.it
SUMMARY:Giornata Euphidra
DESCRIPTION:Giornata interamente dedicata ai prodotti Euphidra che potrai acquistare con il 20%.
URL:https://farmaciapittari.it/eventi/giornata-euphidra-18/
LOCATION:Farmacia Pittari Catania\, Via Vitaliano Brancati\, 55\, Catania\, Catania\, 95128\, Italia
CATEGORIES:Giugno 2025
ATTACH;FMTTYPE=image/png:https://farmaciapittari.it/wp-content/uploads/2025/06/GIORNATA-PROMOZIONALE-SCONTO-EUPHIDRA-2025-3.png
ORGANIZER;CN="Farmacia Pittari Catania":MAILTO:info@farmaciapittari.it
END:VEVENT
BEGIN:VEVENT
DTSTART;TZID=Europe/Rome:20250610T083000
DTEND;TZID=Europe/Rome:20250610T210000
DTSTAMP:20260421T130337
CREATED:20250520T080143Z
LAST-MODIFIED:20250520T080143Z
UID:10000113-1749544200-1749589200@farmaciapittari.it
SUMMARY:Giornata Bionike cosmeceutical
DESCRIPTION:Intera giornata dedicata  al trattamento viso in cabina + sconti su tutti i prodotti del brand.
URL:https://farmaciapittari.it/eventi/giornata-bionike-cosmeceutical-7/
LOCATION:Farmacia Pittari Catania\, Via Vitaliano Brancati\, 55\, Catania\, Catania\, 95128\, Italia
CATEGORIES:Giugno 2025
ATTACH;FMTTYPE=image/png:https://farmaciapittari.it/wp-content/uploads/2025/05/GIORNATA-BIONIKE-COSMECEUTICAL-4.png
ORGANIZER;CN="Farmacia Pittari Catania":MAILTO:info@farmaciapittari.it
END:VEVENT
BEGIN:VEVENT
DTSTART;TZID=Europe/Rome:20250515T083000
DTEND;TZID=Europe/Rome:20250515T210000
DTSTAMP:20260421T130337
CREATED:20250415T074337Z
LAST-MODIFIED:20250415T074337Z
UID:10000110-1747297800-1747342800@farmaciapittari.it
SUMMARY:Giornata Euphidra
DESCRIPTION:Giornata dedicata al Trattamento viso in cabina!
URL:https://farmaciapittari.it/eventi/giornata-euphidra-17/
LOCATION:Farmacia Pittari Catania\, Via Vitaliano Brancati\, 55\, Catania\, Catania\, 95128\, Italia
CATEGORIES:Maggio 2025
ATTACH;FMTTYPE=image/png:https://farmaciapittari.it/wp-content/uploads/2025/04/TRATTAMENTO-IN-CABINA-EUPHIDRA-2.png
ORGANIZER;CN="Farmacia Pittari Catania":MAILTO:info@farmaciapittari.it
END:VEVENT
BEGIN:VEVENT
DTSTART;TZID=Europe/Rome:20250513T083000
DTEND;TZID=Europe/Rome:20250513T210000
DTSTAMP:20260421T130337
CREATED:20250415T073915Z
LAST-MODIFIED:20250415T073915Z
UID:10000109-1747125000-1747170000@farmaciapittari.it
SUMMARY:Giornata Bionike My Body
DESCRIPTION:Intera giornata dedicata  al trattamento anticellulite in cabina + sconti sulla linea defence my body.
URL:https://farmaciapittari.it/eventi/giornata-bionike-mybody-1/
LOCATION:Farmacia Pittari Catania\, Via Vitaliano Brancati\, 55\, Catania\, Catania\, 95128\, Italia
CATEGORIES:Maggio 2025
ATTACH;FMTTYPE=image/png:https://farmaciapittari.it/wp-content/uploads/2025/04/BIONIKE-PROMO-DEFENCE-MY-BODY-MARZO-2025-MOBILE-1.png
ORGANIZER;CN="Farmacia Pittari Catania":MAILTO:info@farmaciapittari.it
END:VEVENT
BEGIN:VEVENT
DTSTART;TZID=Europe/Rome:20250508T083000
DTEND;TZID=Europe/Rome:20250508T130000
DTSTAMP:20260421T130337
CREATED:20250415T073613Z
LAST-MODIFIED:20250415T073613Z
UID:10000108-1746693000-1746709200@farmaciapittari.it
SUMMARY:Giornata Giavì
DESCRIPTION:Giornata dedicata al controllo di pelle e capelli.
URL:https://farmaciapittari.it/eventi/giornata-giavi-12/
LOCATION:Farmacia Pittari Catania\, Via Vitaliano Brancati\, 55\, Catania\, Catania\, 95128\, Italia
CATEGORIES:Maggio 2025
ATTACH;FMTTYPE=image/png:https://farmaciapittari.it/wp-content/uploads/2025/04/NUOVO-BANNER-GIAVI-1.png
ORGANIZER;CN="Farmacia Pittari Catania":MAILTO:info@farmaciapittari.it
END:VEVENT
BEGIN:VEVENT
DTSTART;TZID=Europe/Rome:20250402T083000
DTEND;TZID=Europe/Rome:20250402T210000
DTSTAMP:20260421T130337
CREATED:20250325T083659Z
LAST-MODIFIED:20250325T083659Z
UID:10000104-1743582600-1743627600@farmaciapittari.it
SUMMARY:Giornata Euphidra
DESCRIPTION:Giornata interamente dedicata ai prodotti Euphidra che potrai acquistare con il 20%.
URL:https://farmaciapittari.it/eventi/giornata-euphidra-16/
LOCATION:Farmacia Pittari Catania\, Via Vitaliano Brancati\, 55\, Catania\, Catania\, 95128\, Italia
CATEGORIES:Aprile 2025
ATTACH;FMTTYPE=image/png:https://farmaciapittari.it/wp-content/uploads/2025/03/GIORNATA-PROMOZIONALE-SCONTO-EUPHIDRA-2025-2.png
ORGANIZER;CN="Farmacia Pittari Catania":MAILTO:info@farmaciapittari.it
END:VEVENT
BEGIN:VEVENT
DTSTART;TZID=Europe/Rome:20250317T083000
DTEND;TZID=Europe/Rome:20250317T210000
DTSTAMP:20260421T130337
CREATED:20250304T095922Z
LAST-MODIFIED:20250304T095922Z
UID:10000103-1742200200-1742245200@farmaciapittari.it
SUMMARY:Giornata Euphidra
DESCRIPTION:Giornata interamente dedicata ai prodotti Euphidra che potrai acquistare con il 20%.
URL:https://farmaciapittari.it/eventi/giornata-euphidra-15/
LOCATION:Farmacia Pittari Catania\, Via Vitaliano Brancati\, 55\, Catania\, Catania\, 95128\, Italia
CATEGORIES:Marzo 2025
ATTACH;FMTTYPE=image/png:https://farmaciapittari.it/wp-content/uploads/2025/03/GIORNATA-PROMOZIONALE-SCONTO-EUPHIDRA-2025-1.png
ORGANIZER;CN="Farmacia Pittari Catania":MAILTO:info@farmaciapittari.it
END:VEVENT
BEGIN:VEVENT
DTSTART;TZID=Europe/Rome:20250313T083000
DTEND;TZID=Europe/Rome:20250313T210000
DTSTAMP:20260421T130337
CREATED:20250304T095625Z
LAST-MODIFIED:20250304T095625Z
UID:10000101-1741854600-1741899600@farmaciapittari.it
SUMMARY:Giornata della Prevenzione Cardiovascolare
DESCRIPTION:Giornata dedicata alla Prevenzione Cardiovascolare in farmacia!
URL:https://farmaciapittari.it/eventi/giornata-prevenzione-cardiovascolare-in-farmacia/
LOCATION:Farmacia Pittari Catania\, Via Vitaliano Brancati\, 55\, Catania\, Catania\, 95128\, Italia
CATEGORIES:Marzo 2025
ATTACH;FMTTYPE=image/png:https://farmaciapittari.it/wp-content/uploads/2025/03/GIORNATA-PREVENZIONE-CARDIOVASCOLARE.png
ORGANIZER;CN="Farmacia Pittari Catania":MAILTO:info@farmaciapittari.it
END:VEVENT
BEGIN:VEVENT
DTSTART;TZID=Europe/Rome:20250305T083000
DTEND;TZID=Europe/Rome:20250305T130000
DTSTAMP:20260421T130337
CREATED:20250228T185610Z
LAST-MODIFIED:20250304T094027Z
UID:10000096-1741163400-1741179600@farmaciapittari.it
SUMMARY:Giornata Giavì
DESCRIPTION:Giornata dedicata al controllo di pelle e capelli.
URL:https://farmaciapittari.it/eventi/giornata-giavi-11/
LOCATION:Farmacia Pittari Catania\, Via Vitaliano Brancati\, 55\, Catania\, Catania\, 95128\, Italia
CATEGORIES:Marzo 2025
ATTACH;FMTTYPE=image/png:https://farmaciapittari.it/wp-content/uploads/2025/02/NUOVO-BANNER-GIAVI.png
ORGANIZER;CN="Farmacia Pittari Catania":MAILTO:info@farmaciapittari.it
END:VEVENT
BEGIN:VEVENT
DTSTART;TZID=Europe/Rome:20250224T083000
DTEND;TZID=Europe/Rome:20250224T210000
DTSTAMP:20260421T130337
CREATED:20250218T083232Z
LAST-MODIFIED:20250218T083232Z
UID:10000094-1740385800-1740430800@farmaciapittari.it
SUMMARY:Giornata Euphidra
DESCRIPTION:Giornata interamente dedicata ai prodotti Euphidra che potrai acquistare con il 20%.
URL:https://farmaciapittari.it/eventi/giornata-euphidra-14/
LOCATION:Farmacia Pittari Catania\, Via Vitaliano Brancati\, 55\, Catania\, Catania\, 95128\, Italia
CATEGORIES:Febbraio 2025
ATTACH;FMTTYPE=image/png:https://farmaciapittari.it/wp-content/uploads/2025/02/GIORNATA-PROMOZIONALE-SCONTO-EUPHIDRA-2025.png
ORGANIZER;CN="Farmacia Pittari Catania":MAILTO:info@farmaciapittari.it
END:VEVENT
BEGIN:VEVENT
DTSTART;TZID=Europe/Rome:20250131T083000
DTEND;TZID=Europe/Rome:20250131T210000
DTSTAMP:20260421T130337
CREATED:20241224T111808Z
LAST-MODIFIED:20241224T111808Z
UID:10000084-1738312200-1738357200@farmaciapittari.it
SUMMARY:Giornata Bionike cosmeceutical
DESCRIPTION:Intera giornata dedicata  al trattamento viso in cabina + sconti su tutti i prodotti del brand.
URL:https://farmaciapittari.it/eventi/giornata-bionike-cosmeceutical-6/
LOCATION:Farmacia Pittari Catania\, Via Vitaliano Brancati\, 55\, Catania\, Catania\, 95128\, Italia
CATEGORIES:Gennaio 2025
ATTACH;FMTTYPE=image/png:https://farmaciapittari.it/wp-content/uploads/2024/12/GIORNATA-BIONIKE-COSMECEUTICAL-2.png
ORGANIZER;CN="Farmacia Pittari Catania":MAILTO:info@farmaciapittari.it
END:VEVENT
END:VCALENDAR