BEGIN:VCALENDAR
VERSION:2.0
PRODID:-//Farmacia Pittari - ECPv6.15.20//NONSGML v1.0//EN
CALSCALE:GREGORIAN
METHOD:PUBLISH
X-ORIGINAL-URL:https://farmaciapittari.it
X-WR-CALDESC:Eventi per Farmacia Pittari
REFRESH-INTERVAL;VALUE=DURATION:PT1H
X-Robots-Tag:noindex
X-PUBLISHED-TTL:PT1H
BEGIN:VTIMEZONE
TZID:Europe/Rome
BEGIN:DAYLIGHT
TZOFFSETFROM:+0100
TZOFFSETTO:+0200
TZNAME:CEST
DTSTART:20220327T010000
END:DAYLIGHT
BEGIN:STANDARD
TZOFFSETFROM:+0200
TZOFFSETTO:+0100
TZNAME:CET
DTSTART:20221030T010000
END:STANDARD
BEGIN:DAYLIGHT
TZOFFSETFROM:+0100
TZOFFSETTO:+0200
TZNAME:CEST
DTSTART:20230326T010000
END:DAYLIGHT
BEGIN:STANDARD
TZOFFSETFROM:+0200
TZOFFSETTO:+0100
TZNAME:CET
DTSTART:20231029T010000
END:STANDARD
BEGIN:DAYLIGHT
TZOFFSETFROM:+0100
TZOFFSETTO:+0200
TZNAME:CEST
DTSTART:20240331T010000
END:DAYLIGHT
BEGIN:STANDARD
TZOFFSETFROM:+0200
TZOFFSETTO:+0100
TZNAME:CET
DTSTART:20241027T010000
END:STANDARD
BEGIN:DAYLIGHT
TZOFFSETFROM:+0100
TZOFFSETTO:+0200
TZNAME:CEST
DTSTART:20250330T010000
END:DAYLIGHT
BEGIN:STANDARD
TZOFFSETFROM:+0200
TZOFFSETTO:+0100
TZNAME:CET
DTSTART:20251026T010000
END:STANDARD
END:VTIMEZONE
BEGIN:VEVENT
DTSTART;TZID=Europe/Rome:20240325T083000
DTEND;TZID=Europe/Rome:20240410T210000
DTSTAMP:20260421T211610
CREATED:20240312T105626Z
LAST-MODIFIED:20240405T100759Z
UID:10000019-1711355400-1712782800@farmaciapittari.it
SUMMARY:Settimana della Prevenzione e Controllo
DESCRIPTION:Settimane della prevenzione! Check up completo.
URL:https://farmaciapittari.it/eventi/giornata-prevenzione-del-diabete-2/
LOCATION:Farmacia Pittari Catania\, Via Vitaliano Brancati\, 55\, Catania\, Catania\, 95128\, Italia
CATEGORIES:Marzo 2024
ATTACH;FMTTYPE=image/png:https://farmaciapittari.it/wp-content/uploads/2024/03/SETTIMANE-PREVENZIONE-MARZO-APRILE-2024-1.png
ORGANIZER;CN="Farmacia Pittari Catania":MAILTO:info@farmaciapittari.it
END:VEVENT
BEGIN:VEVENT
DTSTART;TZID=Europe/Rome:20240315T083000
DTEND;TZID=Europe/Rome:20240315T210000
DTSTAMP:20260421T211610
CREATED:20240305T113806Z
LAST-MODIFIED:20240308T100653Z
UID:10000018-1710491400-1710536400@farmaciapittari.it
SUMMARY:Giornata Bionike Make UP
DESCRIPTION:Intera giornata dedicata  al make up e alla bellezza! Prenota la tua seduta trucco personalizzata con un Make Up Artist di Bionike.
URL:https://farmaciapittari.it/eventi/giornata-bionike-make-up/
LOCATION:Farmacia Pittari Catania\, Via Vitaliano Brancati\, 55\, Catania\, Catania\, 95128\, Italia
CATEGORIES:Marzo 2024
ATTACH;FMTTYPE=image/png:https://farmaciapittari.it/wp-content/uploads/2024/03/GIORNATA-BIONIKE-MAKE-UP-15-MARZO-VERSIONE-2.png
ORGANIZER;CN="Farmacia Pittari Catania":MAILTO:info@farmaciapittari.it
END:VEVENT
BEGIN:VEVENT
DTSTART;TZID=Europe/Rome:20240229T083000
DTEND;TZID=Europe/Rome:20240229T210000
DTSTAMP:20260421T211610
CREATED:20240223T110501Z
LAST-MODIFIED:20240227T081546Z
UID:10000015-1709195400-1709240400@farmaciapittari.it
SUMMARY:Giornata Prevenzione del Diabete
DESCRIPTION:Giornata interamente dedicata alla prevenzione del diabete.
URL:https://farmaciapittari.it/eventi/giornata-prevenzione-del-diabete/
LOCATION:Farmacia Pittari Catania\, Via Vitaliano Brancati\, 55\, Catania\, Catania\, 95128\, Italia
CATEGORIES:Febbraio 2024
ATTACH;FMTTYPE=image/png:https://farmaciapittari.it/wp-content/uploads/2024/02/GIORNATA-DIABETE-FEBBRAIO-2024.png
ORGANIZER;CN="Farmacia Pittari Catania":MAILTO:info@farmaciapittari.it
END:VEVENT
BEGIN:VEVENT
DTSTART;TZID=Europe/Rome:20240227T083000
DTEND;TZID=Europe/Rome:20240227T210000
DTSTAMP:20260421T211610
CREATED:20240202T084709Z
LAST-MODIFIED:20240202T094256Z
UID:10000014-1709022600-1709067600@farmaciapittari.it
SUMMARY:Giornata Euphidra
DESCRIPTION:Giornata interamente dedicata ai prodotti Euphidra che potrai acquistare con il 20%.
URL:https://farmaciapittari.it/eventi/giornata-euphidra/
LOCATION:Farmacia Pittari Catania\, Via Vitaliano Brancati\, 55\, Catania\, Catania\, 95128\, Italia
CATEGORIES:Febbraio 2024
ATTACH;FMTTYPE=image/png:https://farmaciapittari.it/wp-content/uploads/2024/02/GIORNATA-EUPHYDRA-27-FEBBRAIO.png
ORGANIZER;CN="Farmacia Pittari Catania":MAILTO:info@farmaciapittari.it
END:VEVENT
BEGIN:VEVENT
DTSTART;TZID=Europe/Rome:20240222T083000
DTEND;TZID=Europe/Rome:20240222T130000
DTSTAMP:20260421T211610
CREATED:20240109T105105Z
LAST-MODIFIED:20240202T094416Z
UID:10000009-1708590600-1708606800@farmaciapittari.it
SUMMARY:Giornata Giavì
DESCRIPTION:Giornata dedicata al controllo di pelle e capelli.
URL:https://farmaciapittari.it/eventi/giornata-giavi-2/
LOCATION:Farmacia Pittari Catania\, Via Vitaliano Brancati\, 55\, Catania\, Catania\, 95128\, Italia
CATEGORIES:Febbraio 2024
ATTACH;FMTTYPE=image/png:https://farmaciapittari.it/wp-content/uploads/2024/01/GIORNATA-GIAVI-22-FEBBRAIO-2024.png
ORGANIZER;CN="Farmacia Pittari Catania":MAILTO:info@farmaciapittari.it
END:VEVENT
BEGIN:VEVENT
DTSTART;TZID=Europe/Rome:20240129T083000
DTEND;TZID=Europe/Rome:20240129T210000
DTSTAMP:20260421T211610
CREATED:20240102T083248Z
LAST-MODIFIED:20240109T112326Z
UID:10000008-1706517000-1706562000@farmaciapittari.it
SUMMARY:Giornata Euphidra
DESCRIPTION:Giornata interamente dedicata ai prodotti Euphidra che potrai acquistare con il 20%.
URL:https://farmaciapittari.it/eventi/giornata-euphydra-2/
LOCATION:Farmacia Pittari Catania\, Via Vitaliano Brancati\, 55\, Catania\, Catania\, 95128\, Italia
CATEGORIES:Gennaio 2024
ATTACH;FMTTYPE=image/png:https://farmaciapittari.it/wp-content/uploads/2024/01/GIORNATA-EUPHYDRA-29-GENNAIO.png
ORGANIZER;CN="Farmacia Pittari Catania":MAILTO:info@farmaciapittari.it
END:VEVENT
BEGIN:VEVENT
DTSTART;TZID=Europe/Rome:20240125T083000
DTEND;TZID=Europe/Rome:20240125T210000
DTSTAMP:20260421T211610
CREATED:20240102T083048Z
LAST-MODIFIED:20240109T112338Z
UID:10000007-1706171400-1706216400@farmaciapittari.it
SUMMARY:Giornata Bionike cosmeceutical
DESCRIPTION:Intera giornata dedicata  al trattamento viso in cabina + sconto 20% su tutti i prodotti del brand.
URL:https://farmaciapittari.it/eventi/giornata-bionike-cosmeceutical-2/
LOCATION:Farmacia Pittari Catania\, Via Vitaliano Brancati\, 55\, Catania\, Catania\, 95128\, Italia
CATEGORIES:Gennaio 2024
ATTACH;FMTTYPE=image/png:https://farmaciapittari.it/wp-content/uploads/2024/01/GIORNATA-BIONIKE-25-GENNAIO.png
ORGANIZER;CN="Farmacia Pittari Catania":MAILTO:info@farmaciapittari.it
END:VEVENT
BEGIN:VEVENT
DTSTART;TZID=Europe/Rome:20231219T080000
DTEND;TZID=Europe/Rome:20231219T210000
DTSTAMP:20260421T211610
CREATED:20231207T114716Z
LAST-MODIFIED:20231212T100848Z
UID:10000003-1702972800-1703019600@farmaciapittari.it
SUMMARY:Giornata Bionike cosmeceutical
DESCRIPTION:Intera giornata dedicata  al trattamento viso in cabina + sconto 20% su tutti i prodotti del brand.
URL:https://farmaciapittari.it/eventi/giornata-bionike-cosmeceutical/
LOCATION:Farmacia Pittari Catania\, Via Vitaliano Brancati\, 55\, Catania\, Catania\, 95128\, Italia
CATEGORIES:Dicembre 2023
ATTACH;FMTTYPE=image/jpeg:https://farmaciapittari.it/wp-content/uploads/2023/12/farmacia-pittari-catania-giornata-bionike.jpg
ORGANIZER;CN="Farmacia Pittari Catania":MAILTO:info@farmaciapittari.it
END:VEVENT
BEGIN:VEVENT
DTSTART;TZID=Europe/Rome:20231214T080000
DTEND;TZID=Europe/Rome:20231214T130000
DTSTAMP:20260421T211610
CREATED:20231207T114954Z
LAST-MODIFIED:20231212T100826Z
UID:10000004-1702540800-1702558800@farmaciapittari.it
SUMMARY:Giornata Inverter
DESCRIPTION:Mattinata dedicata alla nutrizione con un nutrizionista in farmacia.
URL:https://farmaciapittari.it/eventi/giornata-inverter/
LOCATION:Farmacia Pittari Catania\, Via Vitaliano Brancati\, 55\, Catania\, Catania\, 95128\, Italia
CATEGORIES:Dicembre 2023
ATTACH;FMTTYPE=image/jpeg:https://farmaciapittari.it/wp-content/uploads/2023/12/farmacia-pittari-catania-giornata-nutrizione.jpg
ORGANIZER;CN="Farmacia Pittari Catania":MAILTO:info@farmaciapittari.it
END:VEVENT
BEGIN:VEVENT
DTSTART;TZID=Europe/Rome:20231212T083000
DTEND;TZID=Europe/Rome:20231212T130000
DTSTAMP:20260421T211610
CREATED:20231207T135611Z
LAST-MODIFIED:20231212T100914Z
UID:10000005-1702369800-1702386000@farmaciapittari.it
SUMMARY:Giornata Giavì
DESCRIPTION:Giornata dedicata al controllo del controllo di pelle e capelli.
URL:https://farmaciapittari.it/eventi/giornata-giavi/
LOCATION:Farmacia Pittari Catania\, Via Vitaliano Brancati\, 55\, Catania\, Catania\, 95128\, Italia
CATEGORIES:Dicembre 2023
ATTACH;FMTTYPE=image/jpeg:https://farmaciapittari.it/wp-content/uploads/2023/12/Farmacia-pittari-catania-giornata-giavi.jpg
ORGANIZER;CN="Farmacia Pittari Catania":MAILTO:info@farmaciapittari.it
END:VEVENT
BEGIN:VEVENT
DTSTART;TZID=Europe/Rome:20231201T083000
DTEND;TZID=Europe/Rome:20231201T210000
DTSTAMP:20260421T211610
CREATED:20231206T160538Z
LAST-MODIFIED:20231212T100922Z
UID:10000001-1701419400-1701464400@farmaciapittari.it
SUMMARY:Giornata Euphydra
DESCRIPTION:Giornata interamente dedicata ai prodotti Euphydra che potrai acquistare con il 20%.
URL:https://farmaciapittari.it/eventi/giornata-euphydra/
LOCATION:Farmacia Pittari Catania\, Via Vitaliano Brancati\, 55\, Catania\, Catania\, 95128\, Italia
CATEGORIES:Dicembre 2023
ATTACH;FMTTYPE=image/jpeg:https://farmaciapittari.it/wp-content/uploads/2023/12/Farmacia-pittari-catania-giornata-euphydra.jpg
ORGANIZER;CN="Farmacia Pittari Catania":MAILTO:info@farmaciapittari.it
END:VEVENT
END:VCALENDAR